BEGIN:VCALENDAR
VERSION:2.0
PRODID:-//eventon.com NONSGML v1.0//EN
CALSCALE:GREGORIAN
METHOD:PUBLISH
BEGIN:VEVENT
UID:69e8903e32479
DTSTAMP:20260422T090918Z
DTSTART:20241212T180000Z
DTEND:20241212T225900Z
LOCATION:
SUMMARY:Queere Tiere
DESCRIPTION:Queere Tiere\nhttps://schlossplatztheater.de/events/queere-tier
 e/var/ri-10.l-L1
URL:https://schlossplatztheater.de/events/queere-tiere/var/ri-10.l-L1
END:VEVENT
END:VCALENDAR