BEGIN:VCALENDAR
VERSION:2.0
PRODID:-//eventon.com NONSGML v1.0//EN
CALSCALE:GREGORIAN
METHOD:PUBLISH
BEGIN:VEVENT
UID:69e9d9835905a
DTSTAMP:20260423T083411Z
DTSTART:20250327T150000Z
DTEND:20250327T225900Z
LOCATION:
SUMMARY:Alles Besteck – nichts wie weg!
DESCRIPTION:Alles Besteck – nichts wie weg!\nhttps://schlossplatztheater.
 de/events/alles-besteck-nichts-wie-weg/
URL:https://schlossplatztheater.de/events/alles-besteck-nichts-wie-weg/
END:VEVENT
END:VCALENDAR